{
 "currentVersion": 11.5,
 "cimVersion": "3.5.0",
 "serviceDescription": "",
 "mapName": "Layers",
 "description": "",
 "copyrightText": "",
 "supportsDynamicLayers": true,
 "layers": [
  {
   "id": 0,
   "name": "2013_NAIP",
   "parentLayerId": -1,
   "defaultVisibility": true,
   "subLayerIds": null,
   "minScale": 0,
   "maxScale": 0,
   "type": "Raster Layer",
   "supportsDynamicLegends": true
  }
 ],
 "tables": [],
 "spatialReference": {
  "wkt2": "PROJCRS[\"NAD_1983_HARN_Adj_MN_Clearwater_Feet\",BASEGEOGCRS[\"GCS_North_American_1983_HARN\",DATUM[\"D_North_American_1983_HARN\",ELLIPSOID[\"GRS_1980\",6378137.0,298.257222101,LENGTHUNIT[\"Meter\",1.0]]],PRIMEM[\"Greenwich\",0.0,ANGLEUNIT[\"Degree\",0.0174532925199433]],CS[ellipsoidal,2],AXIS[\"Latitude (lat)\",north,ORDER[1]],AXIS[\"Longitude (lon)\",east,ORDER[2]],ANGLEUNIT[\"Degree\",0.0174532925199433]],CONVERSION[\"Transverse_Mercator\",METHOD[\"Transverse_Mercator\"],PARAMETER[\"False_Easting\",500036.25287825,LENGTHUNIT[\"Foot_US\",0.3048006096012192]],PARAMETER[\"False_Northing\",100007.2501163333,LENGTHUNIT[\"Foot_US\",0.3048006096012192]],PARAMETER[\"Central_Meridian\",-95.37583333333333,ANGLEUNIT[\"Degree\",0.0174532925199433]],PARAMETER[\"Scale_Factor\",1.000072505661,SCALEUNIT[\"Unity\",1.0]],PARAMETER[\"Latitude_Of_Origin\",47.15166666666666,ANGLEUNIT[\"Degree\",0.0174532925199433]]],CS[Cartesian,2],AXIS[\"Easting (X)\",east,ORDER[1]],AXIS[\"Northing (Y)\",north,ORDER[2]],LENGTHUNIT[\"Foot_US\",0.3048006096012192]]",
  "wkt": "PROJCS[\"NAD_1983_HARN_Adj_MN_Clearwater_Feet\",GEOGCS[\"GCS_North_American_1983_HARN\",DATUM[\"D_North_American_1983_HARN\",SPHEROID[\"GRS_1980\",6378137.0,298.257222101]],PRIMEM[\"Greenwich\",0.0],UNIT[\"Degree\",0.0174532925199433]],PROJECTION[\"Transverse_Mercator\"],PARAMETER[\"False_Easting\",500036.25287825],PARAMETER[\"False_Northing\",100007.2501163333],PARAMETER[\"Central_Meridian\",-95.37583333333333],PARAMETER[\"Scale_Factor\",1.000072505661],PARAMETER[\"Latitude_Of_Origin\",47.15166666666666],UNIT[\"Foot_US\",0.3048006096012192]]",
  "xyTolerance": 0.0010240000009536746,
  "zTolerance": 2.0E-5,
  "mTolerance": 0.001,
  "falseX": -17949800,
  "falseY": -49858200,
  "xyUnits": 1.3723143950022152E8,
  "falseZ": 0,
  "zUnits": 400000,
  "falseM": -100000,
  "mUnits": 10000
 },
 "singleFusedMapCache": true,
 "tileInfo": {
  "rows": 256,
  "cols": 256,
  "dpi": 96,
  "format": "MIXED",
  "compressionQuality": 75,
  "origin": {
   "x": -17949800,
   "y": 15776900
  },
  "spatialReference": {
   "wkt2": "PROJCRS[\"NAD_1983_HARN_Adj_MN_Clearwater_Feet\",BASEGEOGCRS[\"GCS_North_American_1983_HARN\",DATUM[\"D_North_American_1983_HARN\",ELLIPSOID[\"GRS_1980\",6378137.0,298.257222101,LENGTHUNIT[\"Meter\",1.0]]],PRIMEM[\"Greenwich\",0.0,ANGLEUNIT[\"Degree\",0.0174532925199433]],CS[ellipsoidal,2],AXIS[\"Latitude (lat)\",north,ORDER[1]],AXIS[\"Longitude (lon)\",east,ORDER[2]],ANGLEUNIT[\"Degree\",0.0174532925199433]],CONVERSION[\"Transverse_Mercator\",METHOD[\"Transverse_Mercator\"],PARAMETER[\"False_Easting\",500036.25287825,LENGTHUNIT[\"Foot_US\",0.3048006096012192]],PARAMETER[\"False_Northing\",100007.2501163333,LENGTHUNIT[\"Foot_US\",0.3048006096012192]],PARAMETER[\"Central_Meridian\",-95.37583333333333,ANGLEUNIT[\"Degree\",0.0174532925199433]],PARAMETER[\"Scale_Factor\",1.000072505661,SCALEUNIT[\"Unity\",1.0]],PARAMETER[\"Latitude_Of_Origin\",47.15166666666666,ANGLEUNIT[\"Degree\",0.0174532925199433]]],CS[Cartesian,2],AXIS[\"Easting (X)\",east,ORDER[1]],AXIS[\"Northing (Y)\",north,ORDER[2]],LENGTHUNIT[\"Foot_US\",0.3048006096012192]]",
   "wkt": "PROJCS[\"NAD_1983_HARN_Adj_MN_Clearwater_Feet\",GEOGCS[\"GCS_North_American_1983_HARN\",DATUM[\"D_North_American_1983_HARN\",SPHEROID[\"GRS_1980\",6378137.0,298.257222101]],PRIMEM[\"Greenwich\",0.0],UNIT[\"Degree\",0.0174532925199433]],PROJECTION[\"Transverse_Mercator\"],PARAMETER[\"False_Easting\",500036.25287825],PARAMETER[\"False_Northing\",100007.2501163333],PARAMETER[\"Central_Meridian\",-95.37583333333333],PARAMETER[\"Scale_Factor\",1.000072505661],PARAMETER[\"Latitude_Of_Origin\",47.15166666666666],UNIT[\"Foot_US\",0.3048006096012192]]",
   "xyTolerance": 0.0010240000009536746,
   "zTolerance": 2.0E-5,
   "mTolerance": 0.001,
   "falseX": -17949800,
   "falseY": -49858200,
   "xyUnits": 1.3723143950022152E8,
   "falseZ": 0,
   "zUnits": 400000,
   "falseM": -100000,
   "mUnits": 10000
  },
  "lods": [
   {
    "level": 0,
    "resolution": 520.8333333333333,
    "scale": 600000
   },
   {
    "level": 1,
    "resolution": 390.625,
    "scale": 450000
   },
   {
    "level": 2,
    "resolution": 86.80555555555556,
    "scale": 100000
   },
   {
    "level": 3,
    "resolution": 43.40277777777778,
    "scale": 50000
   },
   {
    "level": 4,
    "resolution": 20.833333333333332,
    "scale": 24000
   },
   {
    "level": 5,
    "resolution": 13.020833333333332,
    "scale": 15000
   },
   {
    "level": 6,
    "resolution": 8.680555555555555,
    "scale": 10000
   },
   {
    "level": 7,
    "resolution": 4.340277777777778,
    "scale": 5000
   },
   {
    "level": 8,
    "resolution": 2.170138888888889,
    "scale": 2500
   },
   {
    "level": 9,
    "resolution": 0.8680555555555555,
    "scale": 1000
   },
   {
    "level": 10,
    "resolution": 0.43402777777777773,
    "scale": 500
   }
  ]
 },
 "storageInfo": {
  "storageFormat": "esriMapCacheStorageModeCompact",
  "packetSize": 128
 },
 "initialExtent": {
  "xmin": -116460.70047449484,
  "ymin": -61769.72679979348,
  "xmax": 1069622.6760815224,
  "ymax": 450515.2403509675,
  "spatialReference": {
   "wkt2": "PROJCRS[\"NAD_1983_HARN_Adj_MN_Clearwater_Feet\",BASEGEOGCRS[\"GCS_North_American_1983_HARN\",DATUM[\"D_North_American_1983_HARN\",ELLIPSOID[\"GRS_1980\",6378137.0,298.257222101,LENGTHUNIT[\"Meter\",1.0]]],PRIMEM[\"Greenwich\",0.0,ANGLEUNIT[\"Degree\",0.0174532925199433]],CS[ellipsoidal,2],AXIS[\"Latitude (lat)\",north,ORDER[1]],AXIS[\"Longitude (lon)\",east,ORDER[2]],ANGLEUNIT[\"Degree\",0.0174532925199433]],CONVERSION[\"Transverse_Mercator\",METHOD[\"Transverse_Mercator\"],PARAMETER[\"False_Easting\",500036.25287825,LENGTHUNIT[\"Foot_US\",0.3048006096012192]],PARAMETER[\"False_Northing\",100007.2501163333,LENGTHUNIT[\"Foot_US\",0.3048006096012192]],PARAMETER[\"Central_Meridian\",-95.37583333333333,ANGLEUNIT[\"Degree\",0.0174532925199433]],PARAMETER[\"Scale_Factor\",1.000072505661,SCALEUNIT[\"Unity\",1.0]],PARAMETER[\"Latitude_Of_Origin\",47.15166666666666,ANGLEUNIT[\"Degree\",0.0174532925199433]]],CS[Cartesian,2],AXIS[\"Easting (X)\",east,ORDER[1]],AXIS[\"Northing (Y)\",north,ORDER[2]],LENGTHUNIT[\"Foot_US\",0.3048006096012192]]",
   "wkt": "PROJCS[\"NAD_1983_HARN_Adj_MN_Clearwater_Feet\",GEOGCS[\"GCS_North_American_1983_HARN\",DATUM[\"D_North_American_1983_HARN\",SPHEROID[\"GRS_1980\",6378137.0,298.257222101]],PRIMEM[\"Greenwich\",0.0],UNIT[\"Degree\",0.0174532925199433]],PROJECTION[\"Transverse_Mercator\"],PARAMETER[\"False_Easting\",500036.25287825],PARAMETER[\"False_Northing\",100007.2501163333],PARAMETER[\"Central_Meridian\",-95.37583333333333],PARAMETER[\"Scale_Factor\",1.000072505661],PARAMETER[\"Latitude_Of_Origin\",47.15166666666666],UNIT[\"Foot_US\",0.3048006096012192]]",
   "xyTolerance": 0.0010240000009536746,
   "zTolerance": 2.0E-5,
   "mTolerance": 0.001,
   "falseX": -17949800,
   "falseY": -49858200,
   "xyUnits": 1.3723143950022152E8,
   "falseZ": 0,
   "zUnits": 400000,
   "falseM": -100000,
   "mUnits": 10000
  }
 },
 "fullExtent": {
  "xmin": 432606.5719042686,
  "ymin": 85718.40624111789,
  "xmax": 569155.854030504,
  "ymax": 437110.61280667764,
  "spatialReference": {
   "wkt2": "PROJCRS[\"NAD_1983_HARN_Adj_MN_Clearwater_Feet\",BASEGEOGCRS[\"GCS_North_American_1983_HARN\",DATUM[\"D_North_American_1983_HARN\",ELLIPSOID[\"GRS_1980\",6378137.0,298.257222101,LENGTHUNIT[\"Meter\",1.0]]],PRIMEM[\"Greenwich\",0.0,ANGLEUNIT[\"Degree\",0.0174532925199433]],CS[ellipsoidal,2],AXIS[\"Latitude (lat)\",north,ORDER[1]],AXIS[\"Longitude (lon)\",east,ORDER[2]],ANGLEUNIT[\"Degree\",0.0174532925199433]],CONVERSION[\"Transverse_Mercator\",METHOD[\"Transverse_Mercator\"],PARAMETER[\"False_Easting\",500036.25287825,LENGTHUNIT[\"Foot_US\",0.3048006096012192]],PARAMETER[\"False_Northing\",100007.2501163333,LENGTHUNIT[\"Foot_US\",0.3048006096012192]],PARAMETER[\"Central_Meridian\",-95.37583333333333,ANGLEUNIT[\"Degree\",0.0174532925199433]],PARAMETER[\"Scale_Factor\",1.000072505661,SCALEUNIT[\"Unity\",1.0]],PARAMETER[\"Latitude_Of_Origin\",47.15166666666666,ANGLEUNIT[\"Degree\",0.0174532925199433]]],CS[Cartesian,2],AXIS[\"Easting (X)\",east,ORDER[1]],AXIS[\"Northing (Y)\",north,ORDER[2]],LENGTHUNIT[\"Foot_US\",0.3048006096012192]]",
   "wkt": "PROJCS[\"NAD_1983_HARN_Adj_MN_Clearwater_Feet\",GEOGCS[\"GCS_North_American_1983_HARN\",DATUM[\"D_North_American_1983_HARN\",SPHEROID[\"GRS_1980\",6378137.0,298.257222101]],PRIMEM[\"Greenwich\",0.0],UNIT[\"Degree\",0.0174532925199433]],PROJECTION[\"Transverse_Mercator\"],PARAMETER[\"False_Easting\",500036.25287825],PARAMETER[\"False_Northing\",100007.2501163333],PARAMETER[\"Central_Meridian\",-95.37583333333333],PARAMETER[\"Scale_Factor\",1.000072505661],PARAMETER[\"Latitude_Of_Origin\",47.15166666666666],UNIT[\"Foot_US\",0.3048006096012192]]",
   "xyTolerance": 0.0010240000009536746,
   "zTolerance": 2.0E-5,
   "mTolerance": 0.001,
   "falseX": -17949800,
   "falseY": -49858200,
   "xyUnits": 1.3723143950022152E8,
   "falseZ": 0,
   "zUnits": 400000,
   "falseM": -100000,
   "mUnits": 10000
  }
 },
 "datesInUnknownTimezone": false,
 "minScale": 600000,
 "maxScale": 500,
 "units": "esriFeet",
 "supportedImageFormatTypes": "PNG32,PNG24,PNG,JPG,DIB,TIFF,EMF,PS,PDF,GIF,SVG,SVGZ,BMP",
 "documentInfo": {
  "Title": "",
  "Author": "",
  "Comments": "",
  "Subject": "",
  "Category": "",
  "Version": "10.1",
  "AntialiasingMode": "None",
  "TextAntialiasingMode": "Force",
  "Keywords": ""
 },
 "supportsQueryDomains": true,
 "capabilities": "Map,Query,Data",
 "supportedQueryFormats": "JSON, geoJSON, PBF",
 "exportTilesAllowed": false,
 "referenceScale": 0.0,
 "supportsDatumTransformation": true,
 "archivingInfo": {
  "supportsHistoricMoment": false
 },
 "supportsClipping": true,
 "supportsSpatialFilter": true,
 "supportsTimeRelation": true,
 "supportsQueryDataElements": true,
 "mapUnits": {
  "uwkid": 9003
 },
 "maxSelectionCount": 2000,
 "maxRecordCount": 1000,
 "maxImageHeight": 4096,
 "maxImageWidth": 4096,
 "supportedExtensions": "",
 "serviceItemId": "a4b51ff4ed3b4973bfb81a84108bca76"
}
